BEGIN:VCALENDAR
VERSION:2.0
PRODID:-//Uphill Into The Wind - ECPv6.15.20//NONSGML v1.0//EN
CALSCALE:GREGORIAN
METHOD:PUBLISH
X-WR-CALNAME:Uphill Into The Wind
X-ORIGINAL-URL:https://uphillintothewind.org
X-WR-CALDESC:Events for Uphill Into The Wind
REFRESH-INTERVAL;VALUE=DURATION:PT1H
X-Robots-Tag:noindex
X-PUBLISHED-TTL:PT1H
BEGIN:VTIMEZONE
TZID:America/Phoenix
BEGIN:STANDARD
TZOFFSETFROM:-0700
TZOFFSETTO:-0700
TZNAME:MST
DTSTART:20240101T000000
END:STANDARD
END:VTIMEZONE
BEGIN:VEVENT
DTSTART;VALUE=DATE:20260328
DTEND;VALUE=DATE:20260329
DTSTAMP:20260423T160203
CREATED:20250804T211751Z
LAST-MODIFIED:20250804T211751Z
UID:3271-1774656000-1774742399@uphillintothewind.org
SUMMARY:Tour de Scottsdale 2026
DESCRIPTION:MARCH 28\, 2026 at WESTWORLD OF SCOTTSDALE \nThe HonorHealth Tour de Scottsdale offers challenging and scenic courses that will undoubtedly push the limits of cyclists. \nRide Distances: Metric Century (100KM – 62 miles) or Half Metric Century (50KM – 32 miles) \nMore info at: https://www.tourdescottsdale.org/
URL:https://uphillintothewind.org/event/tour-de-scottsdale-2026/
LOCATION:WestWorld of Scottsdale\, 16601 North Pima Road\, Scottsdale\, AZ\, 85260
ATTACH;FMTTYPE=image/png:https://uphillintothewind.org/wp-content/uploads/2025/08/tourDeScottsdale-Logo.png
ORGANIZER;CN="El Tour De Tucson - Perimeter Bicycling Association":MAILTO:info@ElTourdeTucson.org
END:VEVENT
BEGIN:VEVENT
DTSTART;VALUE=DATE:20260214
DTEND;VALUE=DATE:20260215
DTSTAMP:20260423T160203
CREATED:20260106T223828Z
LAST-MODIFIED:20260106T224045Z
UID:3498-1771027200-1771113599@uphillintothewind.org
SUMMARY:Tour de Cure 2026 for American Diabetes Association
DESCRIPTION:February 14th\, 2026 Tour de Cure: Arizona 56 benefiting the American Diabetes Association. Starting at the Goodyear Ballpark then on to Phoenix Raceway where you’ll take a lap around the iconic NASCAR race track\, then on to Estrella before heading back to the ballpark. \nJoin the Uphill team at: https://tour.diabetes.org/teams/UITW
URL:https://uphillintothewind.org/event/tour-de-cure-2026-for-american-diabetes-association-2/
LOCATION:Goodyear Ballpark\, 1933 S Ballpark Way\, Goodyear\, AZ\, 85338\, United States
CATEGORIES:Tour de Cure
END:VEVENT
BEGIN:VEVENT
DTSTART;VALUE=DATE:20251122
DTEND;VALUE=DATE:20251123
DTSTAMP:20260423T160203
CREATED:20250508T021136Z
LAST-MODIFIED:20250804T203933Z
UID:3205-1763769600-1763855999@uphillintothewind.org
SUMMARY:El Tour de Tucson 2025
DESCRIPTION:The 42nd El Tour de Tucson is November 22\, 2025 \nRegister with the Uphill team at: https://www.bikesignup.com/Race/80091/Charity/26272 \nEl Tour de Tucson is now preparing to host the 42nd year for what we think is one of the premier bicycling events in the country. We hope you participate in this year’s event on November 22\, 2025. You won’t be alone given that annually nearly 10\,000 cyclists participate in the renowned and popular event. \nCharity\, community\, health and wellness are what Perimeter Bicycling and El Tour are all about. They all go hand-in-hand when it comes to building awareness for a bike ride that has been part of the Tucson community for nearly four decades.
URL:https://uphillintothewind.org/event/el-tour-de-tucson-2025/
LOCATION:Tucson Convention Center\, 260 S Church Ave\, Tucson\, AZ\, 85701\, United States
ATTACH;FMTTYPE=image/png:https://uphillintothewind.org/wp-content/uploads/2025/08/elTourDeTucson2025-UITWFinish-logo.png
ORGANIZER;CN="El Tour De Tucson - Perimeter Bicycling Association":MAILTO:info@ElTourdeTucson.org
END:VEVENT
BEGIN:VEVENT
DTSTART;VALUE=DATE:20251108
DTEND;VALUE=DATE:20251110
DTSTAMP:20260423T160203
CREATED:20250508T022203Z
LAST-MODIFIED:20250804T204019Z
UID:3211-1762560000-1762732799@uphillintothewind.org
SUMMARY:Bike MS: Arizona 2025
DESCRIPTION:Please join us for Bike MS Arizona 2025 on November 8th & 9th 2025 in Fountain Hills\, Arizona.  Join the “Curbing MS” Team using the link below. \nhttps://events.nationalmssociety.org/teams/82325
URL:https://uphillintothewind.org/event/bike-ms-arizona-2025/
LOCATION:Fountain Hills Community Center\, 13001 N. La Montana Dr.\, Fountain Hills\, AZ\, 85268\, United States
ATTACH;FMTTYPE=image/webp:https://uphillintothewind.org/wp-content/uploads/2025/08/bikems-logo.webp
ORGANIZER;CN="Bike MS":MAILTO:fundraisingsupport@nmss.org
END:VEVENT
BEGIN:VEVENT
DTSTART;VALUE=DATE:20251026
DTEND;VALUE=DATE:20251027
DTSTAMP:20260423T160203
CREATED:20250508T021532Z
LAST-MODIFIED:20250804T204340Z
UID:3208-1761436800-1761523199@uphillintothewind.org
SUMMARY:Rob Dollar Ride 2025
DESCRIPTION:Come join Uphill Into the Wind as we honor Rob Dollar at South Mountain Park\, Phoenix\, AZ \nThe Rob Dollar Foundation \nWorking with South Mountain Park officials\, city officials\, and local organizations\, the Rob Dollar Foundation’s initial priority is to engage with existing park safety initiatives and task-force to accelerate the implementation of road safety for the benefit of the cycling community. \nThe foundation scope also includes increasing awareness of safety measures available to cyclists as well as advocacy for the recommendation or support of legislation changes and initiatives at the city and state level. \nRead more about the Rob Dollar Foundation and the ride at:  https://www.robdollarfoundation.org
URL:https://uphillintothewind.org/event/rob-dollar-ride-2025/
LOCATION:South Mountain Park\, 10919 S Central Ave\, Phoenix\, AZ\, 85042\, United States
ATTACH;FMTTYPE=image/png:https://uphillintothewind.org/wp-content/uploads/2025/08/robDollarFoundation-Logo.png
ORGANIZER;CN="Rob Dollar Foundation":MAILTO:Info@RobDollarFoundation.com
END:VEVENT
BEGIN:VEVENT
DTSTART;VALUE=DATE:20250927
DTEND;VALUE=DATE:20250928
DTSTAMP:20260423T160203
CREATED:20250508T022811Z
LAST-MODIFIED:20250804T204409Z
UID:3215-1758931200-1759017599@uphillintothewind.org
SUMMARY:Pedal the Petrified 2025
DESCRIPTION:Pedal the Petrified 2025 is a non-competitive cycling tour ride that takes place in the beautiful Petrified Forest National Park to raise funds for NPC student scholarships \n\n\n\n\n\n\n\n\n\n\n\n\n\n\n\n\n\nPlease join us on September 27\, 2025\, for Pedal the Petrified!\n\n\n\n\n\n\n\n\n\n\nRegister  at: https://www.active.com/petrified-forest-az/cycling/races/pedal-the-petrified-2025
URL:https://uphillintothewind.org/event/pedal-the-petrified-2025/
LOCATION:Petrified Forest National Park\, 1 Park Road\, Petrified Forest\, 86028\, United States
ATTACH;FMTTYPE=image/jpeg:https://uphillintothewind.org/wp-content/uploads/2025/08/pedalThePetrifiedLogo-2025-web.jpg
ORGANIZER;CN="El Tour De Tucson - Perimeter Bicycling Association":MAILTO:info@ElTourdeTucson.org
END:VEVENT
BEGIN:VEVENT
DTSTART;TZID=America/Phoenix:20250920T070000
DTEND;TZID=America/Phoenix:20250920T120000
DTSTAMP:20260423T160203
CREATED:20250804T205321Z
LAST-MODIFIED:20250828T182250Z
UID:3257-1758351600-1758369600@uphillintothewind.org
SUMMARY:El Tour De Loop 2025
DESCRIPTION:The 2025 edition of Pima County El Tour Loop de Loop will bring the fun riding the Chuck Huckelberry Loop on Saturday\, September 20th with an after party at Rillito Park Race Track on the Loop. Feel free to join in anywhere along the Loop and have fun while being safe and responsible. If you are riding the full loop\, we suggest that you ride the loop clockwise. There will be many that just ride 10-20 miles on the loop and will ride from Rillito in both directions. Loop de Loop gives cyclists the opportunity to ride the Loop meeting El Tour charitable beneficiaries and sponsors. We encourage you to support our charitable beneficiaries. Here is a current listing of our non-profit organizations https://eltourdetucson.org/el-tour-de-tucson/non-profits/ Thanks you for supporting them over the years! \nSaturday September 20\, 2025\nRide Begins at  7:00 a.m. and ends at Noon \nStart at Rillito Park at the Racetrack (plenty of parking!)  or you can also start at any point along Pima County’s Chuck Huckelberry Loop.  Cyclists can ride the Loop and then go station to station meeting El Tour nonprofit partners and sponsors. Find a nonprofit or team to ride for and learn more about El Tour.  Non-Profits will be set up at both the Rillito Park Race Track on the Loop . \nIf you are riding the full loop\, we suggest that you ride the loop clockwise.  There will be many that just ride 10-20 miles on the loop and will ride from Rillito in both directions. \nLoop de Loop\, in its seventh year\, is an event for nonprofits to get an early start on finding cyclists for their cause for El Tour set for November 22\, 2025. It gives the opportunity for cyclists to pick their non-profit\, find new riding partners and find training rides. \nThe After Party will feature live music beginning at 10 a.m. at the Rillito Park just off the Loop (4502 N 1st Ave\, Tucson\, AZ 85718) \nAfter the ride\, join us for an after party with live music\, food\, drinks and an array of prizes to be raffled off.  The bands will play from 10am-Noon.  FREE raffle tickets are available at all the booths at each station along the Loop. Come and have some fun\, win some amazing prizes!
URL:https://uphillintothewind.org/event/el-tour-de-loop-2025/
LOCATION:Rillito Park Race Track\, 4502 N 1st Ave\, Tucson\, AZ\, 85718\, United States
CATEGORIES:ETT-2025
ATTACH;FMTTYPE=image/webp:https://uphillintothewind.org/wp-content/uploads/2025/08/elTourDeLoop-Logo.webp
ORGANIZER;CN="El Tour De Tucson - Perimeter Bicycling Association":MAILTO:info@ElTourdeTucson.org
END:VEVENT
BEGIN:VEVENT
DTSTART;TZID=America/Phoenix:20250830T054500
DTEND;TZID=America/Phoenix:20250830T210000
DTSTAMP:20260423T160203
CREATED:20250828T180729Z
LAST-MODIFIED:20250828T182453Z
UID:3379-1756532700-1756587600@uphillintothewind.org
SUMMARY:El Tour de Tucson Training Ride #4
DESCRIPTION:Our fourth official training ride for El Tour de Tucson will be this SATURDAY\, August 30th. We will meet at 5:45 AM near Curbside Cyclery\,\n4855 E. Warner Rd. in Phoenix. Park closer to the Burger King. We will be wheels down at 6:15 AM and WILL NOT WAIT FOR LATE COMERS! This ride will be approximately 2-1/2 hours and will introduce hills. Stay after the ride and enjoy breakfast with the team!\nBring your own sports towel. Ice cold water will be provided to wet it down to help you cool off after the ride!\n**All rides are weather permitting**\nREQUIRED: before participating in this or any of our upcoming group rides\, each rider is required to have a current waiver on file. Please click on the button below to view the waiver\, sign your agreement and return it to me by email prior to joining a group ride. Even if you’ve signed a waiver in the past\, you MUST submit a new one each year. \n\nWAIVER \n\nRide Map and Download: \nClick Heare To Go To Ride With GPS \nJoin our Strava Group for updates on our group rides! \nSTRAVA
URL:https://uphillintothewind.org/event/el-tour-de-tucson-training-ride4/
LOCATION:Curbside Cyclery\, parking lot\, 4855 E. Warner Road\, Chandler\, AZ\, 85044\, United States
CATEGORIES:ETT-2025
ATTACH;FMTTYPE=image/png:https://uphillintothewind.org/wp-content/uploads/2025/08/Uphill-neon-vertical-with-logo-square.png
ORGANIZER;CN="Uphill Into The Wind":MAILTO:info@uphillintothewind.org
END:VEVENT
BEGIN:VEVENT
DTSTART;VALUE=DATE:20250824
DTEND;VALUE=DATE:20250825
DTSTAMP:20260423T160203
CREATED:20250804T210509Z
LAST-MODIFIED:20250804T210509Z
UID:3261-1755993600-1756079999@uphillintothewind.org
SUMMARY:Bike The Bay 2025
DESCRIPTION:The 18th annual Bike the Bay is set for Sunday\, August 24\, 2025! \nCruise around San Diego Bay and enjoy your only opportunity to ride across the Coronado Bay Bridge! \nThis non-competitive community bike ride is for people of all abilities and will take you on a scenic (and primarily flat) ride around the San Diego Bay via the Bayshore Bikeway. Along the way\, riders will travel through Coronado\, Imperial Beach\, Chula Vista\, and National City before finishing back at the start/finish line at Embarcadero Marina for a post-ride festival with food\, beverages\, a beer garden\, and entertainment. \nRegister at https://www.bikereg.com/bike-the-bay-2025 \n 
URL:https://uphillintothewind.org/event/bike-the-bay-2025/
LOCATION:Embarcadero Marina Park South – Bike The Bay\, 200 Marina Park Way\, San Diego\, CA\, 92101\, United States
ATTACH;FMTTYPE=image/jpeg:https://uphillintothewind.org/wp-content/uploads/2025/08/bikeTheBay.jpg
ORGANIZER;CN="San Diego County Bike Coalition":MAILTO:info@sdbikecoalition.org
END:VEVENT
BEGIN:VEVENT
DTSTART;TZID=America/Phoenix:20250810T054500
DTEND;TZID=America/Phoenix:20250810T080000
DTSTAMP:20260423T160203
CREATED:20250806T183803Z
LAST-MODIFIED:20250806T183901Z
UID:3346-1754804700-1754812800@uphillintothewind.org
SUMMARY:EL TOUR DE TUCSON TRAINING RIDE #1
DESCRIPTION:UPHILL INTO THE WIND – EL TOUR DE TUCSON TRAINING RIDE #1 – SUNDAY\, AUGUST 10\, 2025 | 5:45 AM \nRIDE INFORMATION: \nWHEN: Sunday\, August 10\, 2025 \nTIME: Meet at 5:45 AM | Wheels down promptly at 6:00 AM \nWHERE: Meet behind the Harkins Theatre at 2550 W. Happy Valley Rd.\, Phoenix\, AZ 85085 (the north parking lot that is adjacent to Norterra Pkwy) \nNOTES: \n– It’s going be a HOT morning so come prepared with one water bottle and one electrolyte drink. \n– Bathrooms may not be available at this location prior to the start time. \n– This ride typically last 1-1/2 hours. \n– This ride is mostly flat terrain. \n– Bring your own sports towel. Ice cold water will be provided to wet it down to help you cool off after the ride! \n– All rides are weather permitting. \n  \nBike Route:
URL:https://uphillintothewind.org/event/el-tour-de-tucson-training-ride-1/
LOCATION:2025 ETT Week 1 – Harkins Theater Norterra\, 2550 W. Happy Valley Rd.\, Phoenix\, AZ\, 85085\, United States
ATTACH;FMTTYPE=image/png:https://uphillintothewind.org/wp-content/uploads/2025/08/elTourDeTucson2025-UITWFinish-logo.png
ORGANIZER;CN="Uphill Into The Wind":MAILTO:info@uphillintothewind.org
END:VEVENT
END:VCALENDAR